BEGIN:VCALENDAR
VERSION:2.0
PRODID:-//kunstbauerkino.de//Termin_PHP 1.0//DE
X-WR-TIMEZONE;VALUE=TEXT:Europe/Berlin
METHOD:PUBLISH
BEGIN:VEVENT
ORGANIZER:www.kunstbauerkino.de
DTSTART:20260513T170000Z
DTEND:20260513T191500Z
LOCATION:KunstBauerKino e.V.\, Am Sportplatz 3\, 02747 Großhennersdorf
URL;VALUE=URI:https://www.kunstbauerkino.de
TRANSP:TRANSPARENT
SEQUENCE:0
UID:108319361369eaa512f14cd2.90588173
DTSTAMP:20260423T230242Z
DESCRIPTION:!!Mittwoch als Strickkino!!Der zwanzigjährige Joachim wird 
 unerwartet an der Schauspielschule in München angenommen 
 und zieht in die großbürgerliche Villa seiner Großeltern 
 ein. Von da an versucht er\, seine Identität als junger 
 Mann zwischen der Welt des Theaters und dem Alltag seiner 
 exzentrischen Großeltern zu finden. [kunstbauerkino.de]
SUMMARY:Ach\, diese Lücke\, diese entsetzliche Lücke
PRIORITY:5
CLASS:PUBLIC
BEGIN:VALARM
TRIGGER:-PT120M
REPEAT:1
DURATION:PT60M
ACTION:DISPLAY
DESCRIPTION:Erinnerung:Ach\, diese Lücke\, diese entsetzliche Lücke
END:VALARM
END:VEVENT
END:VCALENDAR
