BEGIN:VCALENDAR
VERSION:2.0
PRODID:-//kunstbauerkino.de//Termin_PHP 1.0//DE
X-WR-TIMEZONE;VALUE=TEXT:Europe/Berlin
METHOD:PUBLISH
BEGIN:VEVENT
ORGANIZER:www.kunstbauerkino.de
DTSTART:20260510T160000Z
DTEND:20260510T180800Z
LOCATION:KunstBauerKino e.V.\, Am Sportplatz 3\, 02747 Großhennersdorf
URL;VALUE=URI:https://www.kunstbauerkino.de
TRANSP:TRANSPARENT
SEQUENCE:0
UID:66606906269eaa55956f1e9.82856282
DTSTAMP:20260423T230353Z
DESCRIPTION:Derya und Aziz\, ein gefeiertes Künstlerehepaar aus 
 Ankara\, führen mit ihrer 13-jährigen Tochter Ezgi ein 
 erfülltes Leben – bis ein Vorfall bei der Premiere ihres 
 neuen Theaterstücks alles verändert. Über Nacht geraten 
 sie ins Visier des Staates und verlieren ihre Arbeit und 
 ihre Wohnung. Sie gehen nach Istanbul\, wo sie vorläufig 
 bei der Mutter von Aziz unterkommen.  Während sich Aziz mit 
 Gelegenheitsjobs durchschlägt und an seinen Überzeugungen 
 festhält\, sucht Derya nach einem Ausweg\, der sie 
 finanziell unabhängig macht. Nach und nach vergrößert 
 sich die Distanz zwischen ihnen und ihrer Tochter\, bis sie 
 sich zwischen ihren Wertvorstellungen und der gemeinsamen 
 Zukunft als Familie entscheiden müssen. [kunstbauerkino.de]
SUMMARY:Gelbe Briefe
PRIORITY:5
CLASS:PUBLIC
BEGIN:VALARM
TRIGGER:-PT120M
REPEAT:1
DURATION:PT60M
ACTION:DISPLAY
DESCRIPTION:Erinnerung:Gelbe Briefe
END:VALARM
END:VEVENT
END:VCALENDAR
