BEGIN:VCALENDAR
VERSION:2.0
PRODID:-//kunstbauerkino.de//Termin_PHP 1.0//DE
X-WR-TIMEZONE;VALUE=TEXT:Europe/Berlin
METHOD:PUBLISH
BEGIN:VEVENT
ORGANIZER:www.kunstbauerkino.de
DTSTART:20260430T180000Z
DTEND:20260430T195800Z
LOCATION:KunstBauerKino e.V.\, Am Sportplatz 3\, 02747 Großhennersdorf
URL;VALUE=URI:https://www.kunstbauerkino.de
TRANSP:TRANSPARENT
SEQUENCE:0
UID:27691095869eaa5caf3e998.32084151
DTSTAMP:20260423T230546Z
DESCRIPTION:Vier Jungs erfüllen sich einen Traum – nach der Schule 
 einmal um die ganze Welt! Aber nicht in irgendeinem Van oder 
 schlichtes Backpacking - Segeln soll es sein! Tim\, Vince\, 
 Michi und Tom aus Bad Tölz stürzen sich ohne jede 
 Segelerfahrung in das Abenteuer ihres Lebens. Sie möchten 
 Ozeane überqueren\, das Leben genießen und sich einfach 
 etwas trauen. Voller Naivität\, mit wenig Geld - aber mit 
 enormer Willenskraft und unfassbarem Urvertrauen. Von der 
 Ostsee über die Nordsee und den Atlantik in die Karibik\, 
 weiter in den Pazifik und die Südsee\, über Asien in den 
 Indischen Ozean und durchs Rote Meer zurück nach Europa – 
 die Route steht grob fest\, mehr Plan braucht es nicht. Denn 
 das eigentliche Ziel ist die Reise selbst... 
 [kunstbauerkino.de]
SUMMARY:Segeljungs - Mit Null Ahnung um die Welt
PRIORITY:5
CLASS:PUBLIC
BEGIN:VALARM
TRIGGER:-PT120M
REPEAT:1
DURATION:PT60M
ACTION:DISPLAY
DESCRIPTION:Erinnerung:Segeljungs - Mit Null Ahnung um die Welt
END:VALARM
END:VEVENT
END:VCALENDAR
